BEGIN:VCALENDAR
VERSION:2.0
PRODID:-//GoodNightFolks - ECPv6.2.5//NONSGML v1.0//EN
CALSCALE:GREGORIAN
METHOD:PUBLISH
X-WR-CALNAME:GoodNightFolks
X-ORIGINAL-URL:https://goodnightfolks.de
X-WR-CALDESC:Veranstaltungen für GoodNightFolks
REFRESH-INTERVAL;VALUE=DURATION:PT1H
X-Robots-Tag:noindex
X-PUBLISHED-TTL:PT1H
BEGIN:VTIMEZONE
TZID:Europe/Helsinki
BEGIN:DAYLIGHT
TZOFFSETFROM:+0200
TZOFFSETTO:+0300
TZNAME:EEST
DTSTART:20200329T010000
END:DAYLIGHT
BEGIN:STANDARD
TZOFFSETFROM:+0300
TZOFFSETTO:+0200
TZNAME:EET
DTSTART:20201025T010000
END:STANDARD
END:VTIMEZONE
BEGIN:VEVENT
DTSTART;VALUE=DATE:20200321
DTEND;VALUE=DATE:20200322
DTSTAMP:20260420T153255
CREATED:20200125T233506Z
LAST-MODIFIED:20200314T180114Z
UID:1492-1584748800-1584835199@goodnightfolks.de
SUMMARY:Stroetmanns Fabrik - St. Patricks Day 2020 - ABGESAGT - CANCELLED
DESCRIPTION:Bereits traditionell starten die Ems-Highlander und die Emsdettener Formation „Travelling Left” wieder ihren irisch-schottischen Abend. Erneut werden sie den Bürgersaal mit Hilfe der Musik und leckerer irischer Bierspezialitäten wieder in den größten Irish Pub entlang der Ems verwandeln. \nMit dabei auch die Tänzerinnen von Celtic Stepfire\, die mit schottischen und irischen Tänzen überzeugen. \nSpecial Guest in diesem Jahr die GoodNightFolks\, die als Headliner am Schluß noch einmal voll aufdrehen mit traditionellem Irish Folk vom Feinsten! \nEin volles Programm\, das bei allen Irish-Folk-Fans keine Wünsche offen lässt
URL:https://goodnightfolks.de/event/stroetmanns-fabrik-st-patricks-day-2020-irisch-schottischer-abend-mit-musik/
LOCATION:Stroetmanns Fabrik\, Friedrichstraße 2\, Emsdetten\, 48282
END:VEVENT
END:VCALENDAR