BEGIN:VCALENDAR
VERSION:2.0
PRODID:-//GoodNightFolks - ECPv6.2.5//NONSGML v1.0//EN
CALSCALE:GREGORIAN
METHOD:PUBLISH
X-WR-CALNAME:GoodNightFolks
X-ORIGINAL-URL:https://goodnightfolks.de
X-WR-CALDESC:Veranstaltungen für GoodNightFolks
REFRESH-INTERVAL;VALUE=DURATION:PT1H
X-Robots-Tag:noindex
X-PUBLISHED-TTL:PT1H
BEGIN:VTIMEZONE
TZID:Europe/Helsinki
BEGIN:DAYLIGHT
TZOFFSETFROM:+0200
TZOFFSETTO:+0300
TZNAME:EEST
DTSTART:20200329T010000
END:DAYLIGHT
BEGIN:STANDARD
TZOFFSETFROM:+0300
TZOFFSETTO:+0200
TZNAME:EET
DTSTART:20201025T010000
END:STANDARD
END:VTIMEZONE
BEGIN:VEVENT
DTSTART;VALUE=DATE:20200314
DTEND;VALUE=DATE:20200315
DTSTAMP:20260420T153255
CREATED:20200125T232256Z
LAST-MODIFIED:20200314T180006Z
UID:1467-1584144000-1584230399@goodnightfolks.de
SUMMARY:Rock and Roll bei Rickermann's - ABGESAGT - CANCELLED
DESCRIPTION:
URL:https://goodnightfolks.de/event/rock-and-roll-bei-rickermanns/
END:VEVENT
END:VCALENDAR