BEGIN:VCALENDAR
VERSION:2.0
PRODID:-//GoodNightFolks - ECPv6.2.5//NONSGML v1.0//EN
CALSCALE:GREGORIAN
METHOD:PUBLISH
X-WR-CALNAME:GoodNightFolks
X-ORIGINAL-URL:https://goodnightfolks.de
X-WR-CALDESC:Veranstaltungen für GoodNightFolks
REFRESH-INTERVAL;VALUE=DURATION:PT1H
X-Robots-Tag:noindex
X-PUBLISHED-TTL:PT1H
BEGIN:VTIMEZONE
TZID:Europe/Berlin
BEGIN:DAYLIGHT
TZOFFSETFROM:+0100
TZOFFSETTO:+0200
TZNAME:CEST
DTSTART:20260329T010000
END:DAYLIGHT
BEGIN:STANDARD
TZOFFSETFROM:+0200
TZOFFSETTO:+0100
TZNAME:CET
DTSTART:20261025T010000
END:STANDARD
END:VTIMEZONE
BEGIN:VEVENT
DTSTART;VALUE=DATE:20260131
DTEND;VALUE=DATE:20260201
DTSTAMP:20260420T180551
CREATED:20250916T131629Z
LAST-MODIFIED:20251116T201303Z
UID:3224-1769817600-1769903999@goodnightfolks.de
SUMMARY:31.01.2026 - Salzkotten - Folk In
DESCRIPTION:Einlass: 19 Uhr \nStart: 20 Uhr \nWeitere Gäste: “Thede Feldmann” mit unserem alten Freund Beni Feldmann. \n 
URL:https://goodnightfolks.de/event/31-01-2026-salzkotten-folk-in/
ATTACH;FMTTYPE=image/jpeg:https://goodnightfolks.de/wp-18849-content/uploads/2025/09/folkin2026_w1450.jpg
END:VEVENT
END:VCALENDAR