BEGIN:VCALENDAR
VERSION:2.0
PRODID:-//GoodNightFolks - ECPv6.2.5//NONSGML v1.0//EN
CALSCALE:GREGORIAN
METHOD:PUBLISH
X-WR-CALNAME:GoodNightFolks
X-ORIGINAL-URL:https://goodnightfolks.de
X-WR-CALDESC:Veranstaltungen für GoodNightFolks
REFRESH-INTERVAL;VALUE=DURATION:PT1H
X-Robots-Tag:noindex
X-PUBLISHED-TTL:PT1H
BEGIN:VTIMEZONE
TZID:Europe/Helsinki
BEGIN:DAYLIGHT
TZOFFSETFROM:+0200
TZOFFSETTO:+0300
TZNAME:EEST
DTSTART:20200329T010000
END:DAYLIGHT
BEGIN:STANDARD
TZOFFSETFROM:+0300
TZOFFSETTO:+0200
TZNAME:EET
DTSTART:20201025T010000
END:STANDARD
END:VTIMEZONE
BEGIN:VEVENT
DTSTART;TZID=Europe/Helsinki:20201003T180000
DTEND;TZID=Europe/Helsinki:20201003T233000
DTSTAMP:20260420T165439
CREATED:20200831T215548Z
LAST-MODIFIED:20200909T171737Z
UID:1863-1601748000-1601767800@goodnightfolks.de
SUMMARY:Landhaus Rickermannn - Greven
DESCRIPTION:GoodNightFolks live im Biergarten – Landhaus Rickermann (Bahnhofstraße 72\, 48268 Greven-Reckenfeld) \nEinlass: 18:00 Uhr\nBeginn: 19: 00Uhr \nTickets:\nVorverkauf: 10€ (in unserem Store)\nAbendkasse: 12€
URL:https://goodnightfolks.de/event/3-oktober-landhaus-rickermann/
LOCATION:Landhaus Rickermann\, Bahnhofstraße 72\, Greven-Reckenfeld\, NRW\, 48268\, Deutschland
END:VEVENT
END:VCALENDAR