BEGIN:VCALENDAR
VERSION:2.0
PRODID:-//GoodNightFolks - ECPv6.2.5//NONSGML v1.0//EN
CALSCALE:GREGORIAN
METHOD:PUBLISH
X-WR-CALNAME:GoodNightFolks
X-ORIGINAL-URL:https://goodnightfolks.de
X-WR-CALDESC:Veranstaltungen für GoodNightFolks
REFRESH-INTERVAL;VALUE=DURATION:PT1H
X-Robots-Tag:noindex
X-PUBLISHED-TTL:PT1H
BEGIN:VTIMEZONE
TZID:Europe/Berlin
BEGIN:DAYLIGHT
TZOFFSETFROM:+0100
TZOFFSETTO:+0200
TZNAME:CEST
DTSTART:20250330T010000
END:DAYLIGHT
BEGIN:STANDARD
TZOFFSETFROM:+0200
TZOFFSETTO:+0100
TZNAME:CET
DTSTART:20251026T010000
END:STANDARD
END:VTIMEZONE
BEGIN:VEVENT
DTSTART;TZID=Europe/Berlin:20251220T200000
DTEND;TZID=Europe/Berlin:20251220T235900
DTSTAMP:20260420T211258
CREATED:20250618T090208Z
LAST-MODIFIED:20250918T181951Z
UID:3182-1766260800-1766275140@goodnightfolks.de
SUMMARY:20.12.2025 - Greven - Weihnachtskonzert - Öppe Winninghoff
DESCRIPTION:Unser Vorverkauf für die drei Weihnachtskonzerte in der Grevener Christuskirche und Im Goldenen Stern startet am kommenden Samstag\, den 20.09.2025. \n\n\n\nDie Tickets kosten im Vorverkauf 18€ pro Ticket. Ihr könnt sie entweder zu den üblichen Geschäftszeiten bei Spiel + Freizeit Burgholz in der Grevener Markstraße oder online über unseren Web-Store unter www.goodnightfolks.de/store/ erstehen. \n\n\n\nDer Online-Verkauf in unserem Web-Store startet am Samstag\, den 20.09.2025 um 9 Uhr. \n\n\n\nWir freuen uns auf Euch! \nEure GoodNightFolks
URL:https://goodnightfolks.de/event/20-12-2025-weihnachtskonzert-oeppe-winninghoff-greven/
LOCATION:Zum goldenen Stern Winninghoff\, Martinistr. 2\, Greven\, NRW\, 48268\, Deutschland
CATEGORIES:LIVE,Weihnachtskonzert
ATTACH;FMTTYPE=image/jpeg:https://goodnightfolks.de/wp-18849-content/uploads/2025/09/GOODNIGHTFOLKS-Plakat-A3-ohne-VVK.jpg
END:VEVENT
END:VCALENDAR